BEGIN:VCALENDAR
VERSION:2.0
PRODID:-//AudioTheme 1.7.1
BEGIN:VEVENT
UID:http://jenniferlindsaymusic.com/?post_type=audiotheme_gig&#038;p=1146
URL:http://jenniferlindsaymusic.com/shows/veterans-day-concert/
DTSTART;TZID=GMT:20151112T030000
SUMMARY:Veteran's Day Concert
DESCRIPTION:Jennifer will be the featured soloist\, performing a selection of operatic arias and patriotic songs with the Temecula Symphony Orchestra (formerly Inland Valley Symphony)
LOCATION:Temecula City Hall\, 41000 Main St\, Temecula\, CA\, 92590
END:VEVENT
END:VCALENDAR