BEGIN:VCALENDAR
VERSION:2.0
PRODID:-//AudioTheme 1.7.1
BEGIN:VEVENT
UID:http://jenniferlindsaymusic.com/?post_type=audiotheme_gig&#038;p=1521
URL:http://jenniferlindsaymusic.com/shows/the-music-of-adolphus-hailstork/
DTSTART;TZID=GMT:20170210T223000
SUMMARY:The Music of Adolphus Hailstork
DESCRIPTION:A concert celebrating the genius of Adolphus C. Hailstork\, hosted by the African American Art Song Alliance Conference.
LOCATION:Winifred Smith Hall (UCI)\, 4000 Mesa Road\, Irvine\, CA\, USA\, 92617
END:VEVENT
END:VCALENDAR