BEGIN:VCALENDAR
VERSION:2.0
PRODID:-//AudioTheme 1.7.1
BEGIN:VEVENT
UID:http://jenniferlindsaymusic.com/?post_type=audiotheme_gig&#038;p=1379
URL:http://jenniferlindsaymusic.com/shows/the-intimate-rossini/
DTSTART;TZID=GMT:20160707T230000
SUMMARY:The Intimate Rossini (Caramoor Festival)
DESCRIPTION:Jennifer will join the rest of the Bel Canto Young Artists in this recital featuring the chamber works of Giacomo Rossini.
LOCATION:Spanish Courtyard at Caramoor\, 149 Girdle Ridge Road\, Katonah\, NY\, 10536
END:VEVENT
END:VCALENDAR