BEGIN:VCALENDAR
VERSION:2.0
PRODID:-//AudioTheme 1.7.1
BEGIN:VEVENT
UID:http://jenniferlindsaymusic.com/?post_type=audiotheme_gig&#038;p=1225
URL:http://jenniferlindsaymusic.com/shows/the-four-note-opera-2/
DTSTART;TZID=GMT:20160214T010000
SUMMARY:The Four-Note Opera
DESCRIPTION:Jennifer sings the untitled Soprano role in Tom Johnson's hilarious chamber opera\, as part of the Opera Naples Resident Artist program. Click for more info & ticket purchase.
LOCATION:David and Cecile Wang Opera Center\, 2408 Linwood Ave\, Naples\, FL\, USA\, 34112
END:VEVENT
END:VCALENDAR