BEGIN:VCALENDAR
VERSION:2.0
PRODID:-//AudioTheme 1.7.1
BEGIN:VEVENT
UID:http://jenniferlindsaymusic.com/sandbox/?post_type=audiotheme_gig&#038;p=116
URL:http://jenniferlindsaymusic.com/shows/the-difficulty-of-crossing-a-field-3/
DTSTART;TZID=GMT:20140629T210000
SUMMARY:The Difficulty of Crossing A Field
DESCRIPTION:Jennifer performs in the chorus of David Lang's opera The Difficulty of Crossing a Field with Long Beach Opera.  The opera is based on a short story by noted American author Ambrose Bierce.
LOCATION:Terrace Theater\, 300 E Ocean Blvd\, Long Beach\, CA\, USA\, 90802
END:VEVENT
END:VCALENDAR