BEGIN:VCALENDAR
VERSION:2.0
PRODID:-//AudioTheme 1.7.1
BEGIN:VEVENT
UID:http://jenniferlindsaymusic.com/sandbox/?post_type=audiotheme_gig&#038;p=99
URL:http://jenniferlindsaymusic.com/shows/the-death-of-klinghoffer/
DTSTART;TZID=GMT:20140317T020000
SUMMARY:The Death of Klinghoffer
DESCRIPTION:Experience the Southern California premiere of one of the most controversial modern operas\, The Death of Klinghoffer\, by noted composer John Adams\, produced by Long Beach Opera.
LOCATION:Terrace Theater\, 300 E Ocean Blvd\, Long Beach\, CA\, USA\, 90802
END:VEVENT
END:VCALENDAR