BEGIN:VCALENDAR
VERSION:2.0
PRODID:-//AudioTheme 1.7.1
BEGIN:VEVENT
UID:http://jenniferlindsaymusic.com/?post_type=audiotheme_gig&#038;p=1697
URL:http://jenniferlindsaymusic.com/shows/the-crucible-osb-1/
DTSTART;TZID=GMT:20190427T023000
SUMMARY:The Crucible
DESCRIPTION:Jennifer makes her role debut as Mary Warren in Robert Ward's "The Crucible" with Opera Santa Barbara.
LOCATION:Lobero Theatre\, 33 E Canon Perdido St\, Santa Barbara\, CA\, 93101
END:VEVENT
END:VCALENDAR