BEGIN:VCALENDAR
VERSION:2.0
PRODID:-//AudioTheme 1.7.1
BEGIN:VEVENT
UID:http://jenniferlindsaymusic.com/sandbox/?post_type=audiotheme_gig&#038;p=124
URL:http://jenniferlindsaymusic.com/shows/southeast-symphony-orchestra/
DTSTART;TZID=GMT:20141026T230000
SUMMARY:Southeast Symphony Orchestra
DESCRIPTION:Jennifer will sing selections from Gershwin's beloved opera Porgy & Bess for the Southeast Symphony Orchestra's Broadway Gala Concert. Tickets may be purchased at the door.
LOCATION:First Congregational Church\, 570 Commonwealth Ave\, Los Angeles\, CA\, USA\, 90020
END:VEVENT
END:VCALENDAR