BEGIN:VCALENDAR
VERSION:2.0
PRODID:-//AudioTheme 1.7.1
BEGIN:VEVENT
UID:http://jenniferlindsaymusic.com/sandbox/?post_type=audiotheme_gig&#038;p=128
URL:http://jenniferlindsaymusic.com/shows/serenades-of-love-concert/
DTSTART;TZID=GMT:20150207T220000
SUMMARY:Serenades of Love Concert
DESCRIPTION:Jennifer will perform excerpts from Puccini's Madame Butterfly for Repertory Opera Company's Serenades of Love concert.
LOCATION:First Christian Church\, 1751 North Park Avenue\, Pomona\, CA\, USA\, 91768
END:VEVENT
END:VCALENDAR