BEGIN:VCALENDAR
VERSION:2.0
PRODID:-//AudioTheme 1.7.1
BEGIN:VEVENT
UID:http://jenniferlindsaymusic.com/sandbox/?post_type=audiotheme_gig&#038;p=131
URL:http://jenniferlindsaymusic.com/shows/san-gabriel-valley-chorale/
DTSTART;TZID=GMT:20150329T023000
SUMMARY:San Gabriel Valley Chorale
DESCRIPTION:Jennifer will be the guest soloist at the upcoming San Gabriel Valley Choral Company concert\, "Resonant Witness" - tickets available at the door: $20 general admission\, $15 students/seniors\, $5 children under 12.
LOCATION:St Luke's Episcopal Church\, 122 California Ave\, Monrovia\, CA\, USA\, 91016
END:VEVENT
END:VCALENDAR