BEGIN:VCALENDAR
VERSION:2.0
PRODID:-//AudioTheme 1.7.1
BEGIN:VEVENT
UID:http://jenniferlindsaymusic.com/sandbox/?post_type=audiotheme_gig&#038;p=120
URL:http://jenniferlindsaymusic.com/shows/repertory-opera-company-in-concert/
DTSTART;TZID=GMT:20140813T023000
SUMMARY:Repertory Opera Company in Concert
DESCRIPTION:Jennifer will perform operatic arias\, duets and scenes with members of the Repertory Opera Company.  ENSEMBLE: Jennifer Lindsay\, Shannon Miller\, Bonnie Snell\, Matt Dunn\, John Hansen\, Raul Matas.
LOCATION:Mt San Antonio Gardens\, 900 E Harrison Ave\, Pomona\, CA\, USA\, 91767
END:VEVENT
END:VCALENDAR