BEGIN:VCALENDAR
VERSION:2.0
PRODID:-//AudioTheme 1.7.1
BEGIN:VEVENT
UID:http://jenniferlindsaymusic.com/sandbox/?post_type=audiotheme_gig&#038;p=107
URL:http://jenniferlindsaymusic.com/shows/pacific-symphony-orchestra/
DTSTART;TZID=GMT:20140604T170000
SUMMARY:Pacific Symphony Orchestra
DESCRIPTION:Join Jennifer as she sings the beautiful aria "Summertime" from George Gerswin's opera Porgy & Bess with the Pacific Symphony for their 2014 Class Act youth concerts!
LOCATION:Segerstrom Concert Hall\, 600 Town Center Drive\, Costa Mesa\, CA\, USA\, 92626
END:VEVENT
END:VCALENDAR