BEGIN:VCALENDAR
VERSION:2.0
PRODID:-//AudioTheme 1.7.1
BEGIN:VEVENT
UID:http://jenniferlindsaymusic.com/?post_type=audiotheme_gig&#038;p=1699
URL:http://jenniferlindsaymusic.com/shows/osb-noontime-recital-apr/
DTSTART;TZID=GMT:20190424T190000
SUMMARY:OSB Noontime Recital
DESCRIPTION:Jennifer performs excerpts from classic American operas in this noontime recital featuring the Opera Santa Barbara Chrisman Studio Artists.
LOCATION:Santa Barbara Public Library\, 40 E Anapamu St\, Santa Barbara\, CA\, 93101
END:VEVENT
END:VCALENDAR