BEGIN:VCALENDAR
VERSION:2.0
PRODID:-//AudioTheme 1.7.1
BEGIN:VEVENT
UID:http://jenniferlindsaymusic.com/?post_type=audiotheme_gig&#038;p=1685
URL:http://jenniferlindsaymusic.com/shows/osb-noontime-recital-05/
DTSTART;TZID=GMT:20190123T200000
SUMMARY:OSB Noontime Recital
DESCRIPTION:Jennifer joins the rest of the Opera Santa Barbara Studio Artists for a program of Russian art songs and excerpts from Tchaikovsky's opera Eugene Onegin.
LOCATION:Wildling Museum\, 1511 Mission Dr\, Solvang\, CA\, 93463
END:VEVENT
END:VCALENDAR