BEGIN:VCALENDAR
VERSION:2.0
PRODID:-//AudioTheme 1.7.1
BEGIN:VEVENT
UID:http://jenniferlindsaymusic.com/?post_type=audiotheme_gig&#038;p=1684
URL:http://jenniferlindsaymusic.com/shows/osb-noontime-recital-04/
DTSTART;TZID=GMT:20190122T200000
SUMMARY:OSB Noontime Recital
DESCRIPTION:Jennifer joins the rest of the Opera Santa Barbara Studio Artists for a program of Russian art songs and excerpts from Tchaikovsky's opera Eugene Onegin.
LOCATION:Lompoc Library\, 501 E North Ave\, Lompoc\, CA\, 93436
END:VEVENT
END:VCALENDAR