BEGIN:VCALENDAR
VERSION:2.0
PRODID:-//AudioTheme 1.7.1
BEGIN:VEVENT
UID:http://jenniferlindsaymusic.com/?post_type=audiotheme_gig&#038;p=1686
URL:http://jenniferlindsaymusic.com/shows/osb-fundraiser-concert/
DTSTART;TZID=GMT:20190118T010000
SUMMARY:OSB Fundraiser Concert
DESCRIPTION:Private fundraising concert for Opera Santa Barbara
LOCATION:Private Location
END:VEVENT
END:VCALENDAR