BEGIN:VCALENDAR
VERSION:2.0
PRODID:-//AudioTheme 1.7.1
BEGIN:VEVENT
UID:http://jenniferlindsaymusic.com/?post_type=audiotheme_gig&#038;p=1692
URL:http://jenniferlindsaymusic.com/shows/osb-eugene-onegin-01/
DTSTART;TZID=GMT:20190302T033000
SUMMARY:Eugene Onegin
DESCRIPTION:Jennifer covers the role of Tatiana in Tchaikovsky's opera Eugene Onegin with Opera Santa Barbara.
LOCATION:Lobero Theatre\, 33 E Canon Perdido St\, Santa Barbara\, CA\, 93101
END:VEVENT
END:VCALENDAR