BEGIN:VCALENDAR
VERSION:2.0
PRODID:-//AudioTheme 1.7.1
BEGIN:VEVENT
UID:http://jenniferlindsaymusic.com/?post_type=audiotheme_gig&#038;p=1564
URL:http://jenniferlindsaymusic.com/shows/opera-under-the-stars-2017/
DTSTART;TZID=GMT:20170812T030000
SUMMARY:Opera Under The Stars
DESCRIPTION:A lyrical evening of great music from the world’s most popular operas at the Redlands Bowl Summer Music Festival.
LOCATION:Redlands Bowl\, 25 Grant Street\, Redlands\, CA\, 92373
END:VEVENT
END:VCALENDAR