BEGIN:VCALENDAR
VERSION:2.0
PRODID:-//AudioTheme 1.7.1
BEGIN:VEVENT
UID:http://jenniferlindsaymusic.com/?post_type=audiotheme_gig&#038;p=1681
URL:http://jenniferlindsaymusic.com/shows/opera-santa-barbara-noontime-recital-01/
DTSTART;TZID=GMT:20190117T200000
SUMMARY:OSB Noontime Recital
DESCRIPTION:Jennifer joins the rest of the Opera Santa Barbara Studio Artists for a program of Russian art songs and excerpts from Tchaikovsky's opera Eugene Onegin.
LOCATION:Ojai Public Library\, 111 E Ojai Ave\, Ojai\, CA\, 93023
END:VEVENT
END:VCALENDAR