BEGIN:VCALENDAR
VERSION:2.0
PRODID:-//AudioTheme 1.7.1
BEGIN:VEVENT
UID:http://jenniferlindsaymusic.com/?post_type=audiotheme_gig&#038;p=1444
URL:http://jenniferlindsaymusic.com/shows/nimbus-disney-hall/
DTSTART;TZID=GMT:20161001T183000
SUMMARY:Nimbus (The Industry)
DESCRIPTION:Kicking off the Los Angeles Philharmonic's 2016/2017 Green Umbrella Series\, Rand Steiger’s commissioned work "Nimbus" combines computer generated musical atmospheres\, material recorded by members of the LA Phil\, and live singing by vocalists (including Jennifer) from Yuval Sharon's groundbreaking contemporary opera company\, The Industry.     The installation performance\, part of the Noon To Midnight event\, runs in cycles from 11:30am until 7pm. Click for ticket info.
LOCATION:Walt Disney Concert Hall\, 111 S Grand Ave\, Los Angeles\, CA\, USA\, 90012
END:VEVENT
END:VCALENDAR