BEGIN:VCALENDAR
VERSION:2.0
PRODID:-//AudioTheme 1.7.1
BEGIN:VEVENT
UID:http://jenniferlindsaymusic.com/sandbox/?post_type=audiotheme_gig&#038;p=119
URL:http://jenniferlindsaymusic.com/shows/nanm-gala-concert/
DTSTART;TZID=GMT:20140723T030000
SUMMARY:NANM Gala Concert
DESCRIPTION:Jennifer will perform with other local National Association of Negro Musicians (NANM) members in a gala concert celebrating 95 years of NANM history.
LOCATION:Doubletree Hotel - LA Westside\, 6161 W Centinela Ave\, Culver City\, CA\, USA\, 90230
END:VEVENT
END:VCALENDAR