BEGIN:VCALENDAR
VERSION:2.0
PRODID:-//AudioTheme 1.7.1
BEGIN:VEVENT
UID:http://jenniferlindsaymusic.com/sandbox/?post_type=audiotheme_gig&#038;p=122
URL:http://jenniferlindsaymusic.com/shows/la-traviata/
DTSTART;TZID=GMT:20140928T220000
SUMMARY:La Traviata
DESCRIPTION:Jennifer makes her role debut as Violetta in Verdi's iconic tragedy La Traviata\, with Center Stage Opera.
LOCATION:Madrid Theatre\, 21622 Sherman Way\, Canoga Park\, CA\, USA\, 91303
END:VEVENT
END:VCALENDAR