BEGIN:VCALENDAR
VERSION:2.0
PRODID:-//AudioTheme 1.7.1
BEGIN:VEVENT
UID:http://jenniferlindsaymusic.com/?post_type=audiotheme_gig&#038;p=1420
URL:http://jenniferlindsaymusic.com/shows/la-traviata-escondido-ca-2/
DTSTART;TZID=GMT:20161127T220000
SUMMARY:La Traviata (PLA Opera)
DESCRIPTION:Jennifer sings the lead role of Violetta in Verdi's masterpiece La Traviata with Pacific Lyric Association Opera. Click for ticket info.
LOCATION:CA Center for the Arts\,  340 N. Escondido Blvd.\, Escondido\, CA \, USA\, 92025
END:VEVENT
END:VCALENDAR