BEGIN:VCALENDAR
VERSION:2.0
PRODID:-//AudioTheme 1.7.1
BEGIN:VEVENT
UID:http://jenniferlindsaymusic.com/?post_type=audiotheme_gig&#038;p=1226
URL:http://jenniferlindsaymusic.com/shows/la-traviata-2/
DTSTART;TZID=GMT:20160319T000000
SUMMARY:La Traviata (Opera Naples)
DESCRIPTION:Jennifer makes her mainstage debut as Annina and covers the role of Violetta in Verdi's beloved masterpiece. Click for more info & ticket purchase.
LOCATION:The Ritz-Carlton Golf Resort at Tiburon\, 2600 Tiburón Drive\, Naples\, FL\, USA\, 34109
END:VEVENT
END:VCALENDAR