BEGIN:VCALENDAR
VERSION:2.0
PRODID:-//AudioTheme 1.7.1
BEGIN:VEVENT
UID:http://jenniferlindsaymusic.com/?post_type=audiotheme_gig&#038;p=1674
URL:http://jenniferlindsaymusic.com/shows/la-boheme/
DTSTART;TZID=GMT:20181021T180000
SUMMARY:La Boheme
DESCRIPTION:Jennifer makes her role debut as Mimì in Puccini's La Boheme with Opera Connecticut.
LOCATION:Hoffmann Auditorium\, 1678 Asylum Avenue\, West Hartford\, CT\, 06117
END:VEVENT
END:VCALENDAR