BEGIN:VCALENDAR
VERSION:2.0
PRODID:-//AudioTheme 1.7.1
BEGIN:VEVENT
UID:http://jenniferlindsaymusic.com/sandbox/?post_type=audiotheme_gig&#038;p=140
URL:http://jenniferlindsaymusic.com/shows/jtva-masterclass/
DTSTART;TZID=GMT:20150627T010000
SUMMARY:JTVA Masterclass
DESCRIPTION:Jennifer performs at the JTVA Tier I Finalist Masterclass with tenor Bruce Ford\,  sponsored by the James Toland Vocal Arts Association.
LOCATION:Valley Center for the Performing Arts (Holy Names University)\, 3500 Mountain Blvd \, Oakland\, CA\, USA\, 94619
END:VEVENT
END:VCALENDAR