BEGIN:VCALENDAR
VERSION:2.0
PRODID:-//AudioTheme 1.7.1
BEGIN:VEVENT
UID:http://jenniferlindsaymusic.com/sandbox/?post_type=audiotheme_gig&#038;p=141
URL:http://jenniferlindsaymusic.com/shows/jtva-competition-finals-concert/
DTSTART;TZID=GMT:20150628T020000
SUMMARY:JTVA Competition Finals Concert
DESCRIPTION:Jennifer performs at the James Toland Vocal Arts (JTVA) National Opera Competition finals concert.
LOCATION:Valley Center for the Performing Arts (Holy Names University)\, 3500 Mountain Blvd \, Oakland\, CA\, USA\, 94619
END:VEVENT
END:VCALENDAR