BEGIN:VCALENDAR
VERSION:2.0
PRODID:-//AudioTheme 1.7.1
BEGIN:VEVENT
UID:http://jenniferlindsaymusic.com/sandbox/?post_type=audiotheme_gig&#038;p=130
URL:http://jenniferlindsaymusic.com/shows/il-tabarro-2/
DTSTART;TZID=GMT:20150321T210000
SUMMARY:Il Tabarro
DESCRIPTION:Jennifer will sing the role of Giorgetta in Repertory Opera Company's production of Il Tabarro by Giacomo Puccini.
LOCATION:First Christian Church\, 1751 North Park Avenue\, Pomona\, CA\, USA\, 91768
END:VEVENT
END:VCALENDAR