BEGIN:VCALENDAR
VERSION:2.0
PRODID:-//AudioTheme 1.7.1
BEGIN:VEVENT
UID:http://jenniferlindsaymusic.com/?post_type=audiotheme_gig&#038;p=1445
URL:http://jenniferlindsaymusic.com/shows/hopscotch-in-concert-usc/
DTSTART;TZID=GMT:20170121T033000
SUMMARY:Hopscotch In Concert (The Industry)
DESCRIPTION:HOPSCOTCH returns to Los Angeles in a concert version at the University of Southern California.
LOCATION:Newman Recital Hall @ USC\, 3616 Trousdale Parkway\, Los Angeles\, CA\, USA\,  90089
END:VEVENT
END:VCALENDAR