BEGIN:VCALENDAR
VERSION:2.0
PRODID:-//AudioTheme 1.7.1
BEGIN:VEVENT
UID:http://jenniferlindsaymusic.com/sandbox/?post_type=audiotheme_gig&#038;p=147
URL:http://jenniferlindsaymusic.com/shows/hopscotch-2/
DTSTART;TZID=GMT:20151122T190000
SUMMARY:Hopscotch
DESCRIPTION:LAST WEEKEND!!!  Jennifer sings the role of Lucha in HOPSCOTCH\, an opera in which audiences are taken on a ride to an unknown destination\, with action unfolding both inside the car and on the streets.  Each car ride is a different chapter of one master narrative\, told in a non-chronological sequence from car to car\, exploring themes of time\, memory\, and perception. Produced by The Industry\, directed by Yuval Sharon.
LOCATION:Downtown Los Angeles\, CA\, Los Angeles\, CA
END:VEVENT
END:VCALENDAR