BEGIN:VCALENDAR
VERSION:2.0
PRODID:-//AudioTheme 1.7.1
BEGIN:VEVENT
UID:http://jenniferlindsaymusic.com/?post_type=audiotheme_gig&#038;p=1240
URL:http://jenniferlindsaymusic.com/shows/holiday-concert/
DTSTART;TZID=GMT:20151214T000000
SUMMARY:Holiday Concert
DESCRIPTION:Jennifer joins the Wind Orchestra Of The West on their annual Holiday Concert as the soprano soloist in Frank Ticheli's Angels In The Architecture. Click for more info & ticket purchase.
LOCATION:First Congregational Church\, 570 Commonwealth Ave\, Los Angeles\, CA\, USA\, 90020
END:VEVENT
END:VCALENDAR