BEGIN:VCALENDAR
VERSION:2.0
PRODID:-//AudioTheme 1.7.1
BEGIN:VEVENT
UID:http://jenniferlindsaymusic.com/?post_type=audiotheme_gig&#038;p=1582
URL:http://jenniferlindsaymusic.com/shows/guillaume-tell-3/
DTSTART;TZID=GMT:20171028T023000
SUMMARY:Guillaume Tell
DESCRIPTION:Jennifer covers the role of Mathilde in Rossini's final operatic masterpiece with Opera Southwest.
LOCATION:Albuquerque Journal Theatre\, 1701 4th St. SW\, Albuquerque\, NM\, 87102
END:VEVENT
END:VCALENDAR