BEGIN:VCALENDAR
VERSION:2.0
PRODID:-//AudioTheme 1.7.1
BEGIN:VEVENT
UID:http://jenniferlindsaymusic.com/?post_type=audiotheme_gig&#038;p=1452
URL:http://jenniferlindsaymusic.com/shows/first-take-the-industry/
DTSTART;TZID=GMT:20170225T040000
SUMMARY:First Take (The Industry/wildUp)
DESCRIPTION:Jennifer sings the role of Tasha in Dylan Mattingly's modern opera Stranger Love.
LOCATION:Aratani Theater\, 244 S. San Pedro St.\, Los Angeles\, CA\, 90012
END:VEVENT
END:VCALENDAR