BEGIN:VCALENDAR
VERSION:2.0
PRODID:-//AudioTheme 1.7.1
BEGIN:VEVENT
UID:http://jenniferlindsaymusic.com/?post_type=audiotheme_gig&#038;p=1382
URL:http://jenniferlindsaymusic.com/shows/fidelio-caramoor-festival/
DTSTART;TZID=GMT:20160731T200000
SUMMARY:Fidelio (Caramoor Festival)
DESCRIPTION:Jennifer performs as a member of the chorus in Beethoven's Fidelio.
LOCATION:Venetian Theater at Caramoor\, 149 Girdle Ridge Road\, Katonah\, NY\, 10536
END:VEVENT
END:VCALENDAR