BEGIN:VCALENDAR
VERSION:2.0
PRODID:-//AudioTheme 1.7.1
BEGIN:VEVENT
UID:http://jenniferlindsaymusic.com/sandbox/?post_type=audiotheme_gig&#038;p=127
URL:http://jenniferlindsaymusic.com/shows/falstaff-2/
DTSTART;TZID=GMT:20141115T220000
SUMMARY:Falstaff
DESCRIPTION:Jennifer will sing the role of Alice Ford in Verdi's comedic opera Falstaff with Repertory Opera Company.
LOCATION:First Christian Church\, 1751 North Park Avenue\, Pomona\, CA\, USA\, 91768
END:VEVENT
END:VCALENDAR