BEGIN:VCALENDAR
VERSION:2.0
PRODID:-//AudioTheme 1.7.1
BEGIN:VEVENT
UID:http://jenniferlindsaymusic.com/sandbox/?post_type=audiotheme_gig&#038;p=144
URL:http://jenniferlindsaymusic.com/shows/don-giovanni-2/
DTSTART;TZID=GMT:20150705T020000
SUMMARY:Don Giovanni
DESCRIPTION:Jennifer makes her role debut as Donna Anna in Mozart's Don Giovanni at the Estates Theatre in Prague. The production is directed by legendary baritone Sherrill Milnes and his wife Maria Zouves\, and is presented in conjunction with the Prague Summer Nights Festival.
LOCATION:Estates Theatre\, Železná ulice / Ovocný trh\, Praha 1\, \, Czech Republic
END:VEVENT
END:VCALENDAR