BEGIN:VCALENDAR
VERSION:2.0
PRODID:-//AudioTheme 1.7.1
BEGIN:VEVENT
UID:http://jenniferlindsaymusic.com/?post_type=audiotheme_gig&#038;p=982
URL:http://jenniferlindsaymusic.com/shows/diva-viva-verdi-concert/
DTSTART;TZID=GMT:20150718T230000
SUMMARY:Diva Viva Verdi Concert
DESCRIPTION:Jennifer sings excerpts from La Traviata in this all-Verdi program\, featuring resident artists from Repertory Opera Company.
LOCATION:First Christian Church\, 1751 North Park Avenue\, Pomona\, CA\, USA\, 91768
END:VEVENT
END:VCALENDAR