BEGIN:VCALENDAR
VERSION:2.0
PRODID:-//AudioTheme 1.7.1
BEGIN:VEVENT
UID:http://jenniferlindsaymusic.com/sandbox/?post_type=audiotheme_gig&#038;p=104
URL:http://jenniferlindsaymusic.com/shows/cosi-fan-tutte-2/
DTSTART;TZID=GMT:20140426T210000
SUMMARY:Cosi Fan Tutte
DESCRIPTION:An ingenious mix of hilarious farce and poignant drama\, Wolfgang A. Mozart's opera Cosi Fan Tutte\, set to a libretto by Lorenzo Da Ponte\, follows two young soldiers who disguise their identities to test their lovers' fidelity. Regarded as one of Mozart & Da Ponte's greatest achievements\, this opera features arias and ensembles unmatched in their musical and dramatic perfection. Jennifer will be playing the role of Fiordiligi.
LOCATION:First Christian Church\, 1751 North Park Avenue\, Pomona\, CA\, USA\, 91768
END:VEVENT
END:VCALENDAR