BEGIN:VCALENDAR
VERSION:2.0
PRODID:-//AudioTheme 1.7.1
BEGIN:VEVENT
UID:http://jenniferlindsaymusic.com/sandbox/?post_type=audiotheme_gig&#038;p=133
URL:http://jenniferlindsaymusic.com/shows/classical-underground/
DTSTART;TZID=GMT:20150602T030000
SUMMARY:Classical Underground
DESCRIPTION:Jennifer makes her long-anticipated return to Classical Underground\, singing the lyrical and emotional fireworks of Violetta's aria\, "E strano...Ah\, fors'e lui...Sempre libera" from Verdi's tragic opera La Traviata.  And then to ease the audience into the off-season break\, "Summertime" from Gershwin's Porgy and Bess\, accompanied by Mary Au on piano.
LOCATION:Alexey Steele Atelier\, 20795 Main St\, Carson\, CA\, USA\, 90745
END:VEVENT
END:VCALENDAR