BEGIN:VCALENDAR
VERSION:2.0
PRODID:-//AudioTheme 1.7.1
BEGIN:VEVENT
UID:http://jenniferlindsaymusic.com/?post_type=audiotheme_gig&#038;p=999
URL:http://jenniferlindsaymusic.com/shows/center-stage-opera-competition-finals-concert/
DTSTART;TZID=GMT:20150725T220000
SUMMARY:Center Stage Opera Competition Finals Concert
DESCRIPTION:Jennifer will perform operatic arias in the finals concert of the 2nd Annual Center Stage Opera Vocal Competition.
LOCATION:LA Valley College - Recital Hall\, 5800 Fulton Avenue\, Valley Glen\, CA\, United States\, 91401
END:VEVENT
END:VCALENDAR