BEGIN:VCALENDAR
VERSION:2.0
PRODID:-//AudioTheme 1.7.1
BEGIN:VEVENT
UID:http://jenniferlindsaymusic.com/?post_type=audiotheme_gig&#038;p=1532
URL:http://jenniferlindsaymusic.com/shows/broadway-to-opera-coachella-valley-symphony/
DTSTART;TZID=GMT:20170305T230000
SUMMARY:Broadway to Opera (Coachella Valley Symphony)
DESCRIPTION:A concert of operatic and musical theater favorites.
LOCATION:Galen Performing Arts Center\, 31001 Rattler Road  \, Rancho Mirage\, CA\, USA\, 92270
END:VEVENT
END:VCALENDAR