BEGIN:VCALENDAR
VERSION:2.0
PRODID:-//AudioTheme 1.7.1
BEGIN:VEVENT
UID:http://jenniferlindsaymusic.com/?post_type=audiotheme_gig&#038;p=1380
URL:http://jenniferlindsaymusic.com/shows/aureliano-in-palmira/
DTSTART;TZID=GMT:20160717T000000
SUMMARY:Aureliano in Palmira (Caramoor Festival)
DESCRIPTION:Jennifer performs in Rossini's opera "Aureliano in Palmira" (chorus/Zenobia cover) and at the 5pm pre-opera performance featuring the Bel Canto Young Artists.
LOCATION:Venetian Theater at Caramoor\, 149 Girdle Ridge Road\, Katonah\, NY\, 10536
END:VEVENT
END:VCALENDAR