BEGIN:VCALENDAR
VERSION:2.0
PRODID:-//AudioTheme 1.7.1
BEGIN:VEVENT
UID:http://jenniferlindsaymusic.com/?post_type=audiotheme_gig&#038;p=1387
URL:http://jenniferlindsaymusic.com/shows/21c-liederabend-la-phil/
DTSTART;TZID=GMT:20160420T030000
SUMMARY:21C Liederabend (LA Phil)
DESCRIPTION:Jennifer sings excerpts from John Adams' contemporary opera "I Was Looking At The Ceiling And Then I Saw The Sky" in this new music concert sponsored by Beth Morrison Projects and the LA Philharmonic Green Umbrella Initiative (GUI).
LOCATION:Walt Disney Concert Hall\, 111 S Grand Ave\, Los Angeles\, CA\, USA\, 90012
END:VEVENT
END:VCALENDAR