BEGIN:VCALENDAR
VERSION:2.0
PRODID:-//AudioTheme 1.7.1
BEGIN:VEVENT
UID:http://jenniferlindsaymusic.com/?post_type=audiotheme_gig&#038;p=1631
URL:http://jenniferlindsaymusic.com/shows/2018-oc-cello-ensemble/
DTSTART;TZID=GMT:20180204T220000
SUMMARY:Guest Artist w/ OC Cello Ensemble
DESCRIPTION:Jennifer will be a guest artist with the Orange County Cello Ensemble singing excerpts from Leonard Bernstein's West Side Story and other pieces.
LOCATION:Richard Nixon Presidential Library\, 18001 Yorba Linda Blvd\, Yorba Linda\, CA\, United States\, 92886
END:VEVENT
END:VCALENDAR