BEGIN:VCALENDAR
VERSION:2.0
PRODID:-//AudioTheme 1.7.1
BEGIN:VEVENT
UID:http://jenniferlindsaymusic.com/?post_type=audiotheme_gig&#038;p=1545
URL:http://jenniferlindsaymusic.com/shows/2017-03-23/
DTSTART;TZID=GMT:20170324T030000
SUMMARY:The Winds Of Change (SES)
DESCRIPTION:Jennifer sings Gustav Mahler's transcendent "Um Mitternacht" from the composer's Ruckert Lieder with the Southeast Symphony Orchestra.
LOCATION:First Congregational Church\, 570 Commonwealth Ave\, Los Angeles\, CA\, USA\, 90020
END:VEVENT
END:VCALENDAR