BEGIN:VCALENDAR
VERSION:2.0
PRODID:-//AudioTheme 1.7.1
BEGIN:VEVENT
UID:http://jenniferlindsaymusic.com/?post_type=audiotheme_gig&#038;p=1448
URL:http://jenniferlindsaymusic.com/shows/2017-02-26/
DTSTART;TZID=GMT:20170226T230000
SUMMARY:Recital (Classics at The Merc)
DESCRIPTION:A recital with pianist Mary Au\, sponsored by Classics At The Merc.
LOCATION:Temecula Theater\, 42051 Main Street  \, Temecula\, CA\,  92590
END:VEVENT
END:VCALENDAR