BEGIN:VCALENDAR
VERSION:2.0
PRODID:-//AudioTheme 1.7.1
BEGIN:VEVENT
UID:http://jenniferlindsaymusic.com/?post_type=audiotheme_gig&#038;p=1253
URL:http://jenniferlindsaymusic.com/shows/2015-12-28/
DTSTART;TZID=GMT:20151229T040000
SUMMARY:San Bernadino Cares - Benefit Concert
DESCRIPTION:Jennifer will be a featured soloist at a benefit concert for the families of the victims of the Dec 2nd San Bernadino tragedy. All proceeds from ticket sales will be donated to the San Bernardino United Relief Fund\, sponsored by Arrowhead United Way.
LOCATION:SAN BERNARDINO VALLEY COLLEGE AUDITORIUM\, 701 South Mt. Vernon Avenue\, San Bernardino\, CA\, 92410
END:VEVENT
END:VCALENDAR