BEGIN:VCALENDAR
VERSION:2.0
PRODID:-//AudioTheme 1.7.1
BEGIN:VEVENT
UID:http://jenniferlindsaymusic.com/sandbox/?post_type=audiotheme_gig&#038;p=117
URL:http://jenniferlindsaymusic.com/shows/2014-07-22/
DTSTART;TZID=GMT:20140723T000000
SUMMARY:NANM Young Artist Concert
DESCRIPTION:Jennifer will be featured along with several other talented singers and musicians in the Young Artist Concert at the 2014 National Convention for the National Association of Negro Musicians (NANM).
LOCATION:Doubletree Hotel - LA Westside\, 6161 W Centinela Ave\, Culver City\, CA\, USA\, 90230
END:VEVENT
END:VCALENDAR