BEGIN:VCALENDAR
VERSION:2.0
PRODID:-//AudioTheme 1.7.1
BEGIN:VEVENT
UID:http://jenniferlindsaymusic.com/sandbox/?post_type=audiotheme_gig&#038;p=105
URL:http://jenniferlindsaymusic.com/shows/2014-05-03/
DTSTART;TZID=GMT:20140503T220000
SUMMARY:Southeast Symphony Orchestra
DESCRIPTION:Jennifer will sing crowd favorite "Summertime" from Gershwin's beloved opera Porgy & Bess with the Southeast Symphony Orchestra\, conducted by Anthony Parnther. Tickets $25-$50\, available at the door.
LOCATION:Marsee Auditorium\, 16007 Crenshaw Blvd\, Torrance\, CA\, USA\, 90506
END:VEVENT
END:VCALENDAR