BEGIN:VCALENDAR
VERSION:2.0
PRODID:-//AudioTheme 1.7.1
BEGIN:VEVENT
UID:http://jenniferlindsaymusic.com/sandbox/?post_type=audiotheme_gig&#038;p=95
URL:http://jenniferlindsaymusic.com/shows/2014-02-08/
DTSTART;TZID=GMT:20140209T030000
SUMMARY:Don Giovanni
DESCRIPTION:Jennifer performs the role of Zerlina in Mozart's timeless masterpiece\, Don Giovanni\, in a semi-staged concert version with the Bakersfield Symphony Orchestra. Tickets available at the website.
LOCATION:Rabobank Arena\, 1001 Truxtun Avenue\, Bakersfield\, CA\, United States\, 93301
END:VEVENT
END:VCALENDAR